BEGIN:VCALENDAR
VERSION:2.0
PRODID:-//Kapadokya Gastronomi Festivali - ECPv6.11.2.1//NONSGML v1.0//EN
CALSCALE:GREGORIAN
METHOD:PUBLISH
X-ORIGINAL-URL:https://kapadokyagastronomifestivali.com
X-WR-CALDESC:Kapadokya Gastronomi Festivali için etkinlikler
REFRESH-INTERVAL;VALUE=DURATION:PT1H
X-Robots-Tag:noindex
X-PUBLISHED-TTL:PT1H
BEGIN:VTIMEZONE
TZID:Europe/Moscow
BEGIN:STANDARD
TZOFFSETFROM:+0300
TZOFFSETTO:+0300
TZNAME:MSK
DTSTART:20220101T000000
END:STANDARD
END:VTIMEZONE
BEGIN:VEVENT
DTSTART;TZID=Europe/Moscow:20220516T080000
DTEND;TZID=Europe/Moscow:20220516T170000
DTSTAMP:20260426T042144
CREATED:20250410T093207Z
LAST-MODIFIED:20250425T072621Z
UID:63188-1652688000-1652720400@kapadokyagastronomifestivali.com
SUMMARY:16 Mayıs\, Pazartesi
DESCRIPTION:
URL:https://kapadokyagastronomifestivali.com/event/16-mayis-pazartesi/
CATEGORIES:2022
END:VEVENT
END:VCALENDAR