BEGIN:VCALENDAR
VERSION:2.0
PRODID:-//Kapadokya Gastronomi Festivali - ECPv6.11.2.1//NONSGML v1.0//EN
CALSCALE:GREGORIAN
METHOD:PUBLISH
X-ORIGINAL-URL:https://kapadokyagastronomifestivali.com
X-WR-CALDESC:Kapadokya Gastronomi Festivali için etkinlikler
REFRESH-INTERVAL;VALUE=DURATION:PT1H
X-Robots-Tag:noindex
X-PUBLISHED-TTL:PT1H
BEGIN:VTIMEZONE
TZID:Europe/Moscow
BEGIN:STANDARD
TZOFFSETFROM:+0300
TZOFFSETTO:+0300
TZNAME:MSK
DTSTART:20230101T000000
END:STANDARD
END:VTIMEZONE
BEGIN:VEVENT
DTSTART;TZID=Europe/Moscow:20230525T080000
DTEND;TZID=Europe/Moscow:20230525T170000
DTSTAMP:20260423T161321
CREATED:20250415T094921Z
LAST-MODIFIED:20250428T102401Z
UID:63371-1685001600-1685034000@kapadokyagastronomifestivali.com
SUMMARY:25. Mayıs / PANEL PROGRAMI
DESCRIPTION:
URL:https://kapadokyagastronomifestivali.com/event/25-mayis-panel-programi/
CATEGORIES:2023
END:VEVENT
BEGIN:VEVENT
DTSTART;TZID=Europe/Moscow:20230526T080000
DTEND;TZID=Europe/Moscow:20230526T170000
DTSTAMP:20260423T161321
CREATED:20250415T094954Z
LAST-MODIFIED:20260326T184910Z
UID:63373-1685088000-1685120400@kapadokyagastronomifestivali.com
SUMMARY:26. Mayıs / ÇALIŞTAY PROGRAMI
DESCRIPTION:
URL:https://kapadokyagastronomifestivali.com/event/26-mayis-calistay-programi/
CATEGORIES:2023
END:VEVENT
END:VCALENDAR