BEGIN:VCALENDAR
VERSION:2.0
PRODID:-//Kapadokya Gastronomi Festivali - ECPv6.11.2.1//NONSGML v1.0//EN
CALSCALE:GREGORIAN
METHOD:PUBLISH
X-WR-CALNAME:Kapadokya Gastronomi Festivali
X-ORIGINAL-URL:https://kapadokyagastronomifestivali.com
X-WR-CALDESC:Kapadokya Gastronomi Festivali için etkinlikler
REFRESH-INTERVAL;VALUE=DURATION:PT1H
X-Robots-Tag:noindex
X-PUBLISHED-TTL:PT1H
BEGIN:VTIMEZONE
TZID:Europe/Moscow
BEGIN:STANDARD
TZOFFSETFROM:+0300
TZOFFSETTO:+0300
TZNAME:MSK
DTSTART:20220101T000000
END:STANDARD
END:VTIMEZONE
BEGIN:VEVENT
DTSTART;TZID=Europe/Moscow:20250522T100000
DTEND;TZID=Europe/Moscow:20250522T230000
DTSTAMP:20260419T184322
CREATED:20250402T120342Z
LAST-MODIFIED:20250518T051801Z
UID:62538-1747908000-1747954800@kapadokyagastronomifestivali.com
SUMMARY:22 Mayıs 2025 - Perşembe
DESCRIPTION:
URL:https://kapadokyagastronomifestivali.com/event/1-gun-5-mayis-2024-pazar/
CATEGORIES:2025
END:VEVENT
BEGIN:VEVENT
DTSTART;TZID=Europe/Moscow:20240506T080000
DTEND;TZID=Europe/Moscow:20240506T170000
DTSTAMP:20260419T184322
CREATED:20250424T094644Z
LAST-MODIFIED:20250425T073153Z
UID:63703-1714982400-1715014800@kapadokyagastronomifestivali.com
SUMMARY:2. Gün 6 Mayıs 2024 - Pazartesi
DESCRIPTION:
URL:https://kapadokyagastronomifestivali.com/event/2-gun-6-mayis-2024-pazartesi-2/
CATEGORIES:2024
END:VEVENT
BEGIN:VEVENT
DTSTART;TZID=Europe/Moscow:20240505T080000
DTEND;TZID=Europe/Moscow:20240505T170000
DTSTAMP:20260419T184322
CREATED:20250424T094603Z
LAST-MODIFIED:20250425T073003Z
UID:63701-1714896000-1714928400@kapadokyagastronomifestivali.com
SUMMARY:1. Gün 5 Mayıs 2024 - Pazar
DESCRIPTION:
URL:https://kapadokyagastronomifestivali.com/event/1-gun-5-mayis-2024-pazar-2/
CATEGORIES:2024
END:VEVENT
BEGIN:VEVENT
DTSTART;TZID=Europe/Moscow:20230526T080000
DTEND;TZID=Europe/Moscow:20230526T170000
DTSTAMP:20260419T184322
CREATED:20250415T094954Z
LAST-MODIFIED:20260326T184910Z
UID:63373-1685088000-1685120400@kapadokyagastronomifestivali.com
SUMMARY:26. Mayıs / ÇALIŞTAY PROGRAMI
DESCRIPTION:
URL:https://kapadokyagastronomifestivali.com/event/26-mayis-calistay-programi/
CATEGORIES:2023
END:VEVENT
BEGIN:VEVENT
DTSTART;TZID=Europe/Moscow:20230525T080000
DTEND;TZID=Europe/Moscow:20230525T170000
DTSTAMP:20260419T184322
CREATED:20250415T094921Z
LAST-MODIFIED:20250428T102401Z
UID:63371-1685001600-1685034000@kapadokyagastronomifestivali.com
SUMMARY:25. Mayıs / PANEL PROGRAMI
DESCRIPTION:
URL:https://kapadokyagastronomifestivali.com/event/25-mayis-panel-programi/
CATEGORIES:2023
END:VEVENT
BEGIN:VEVENT
DTSTART;TZID=Europe/Moscow:20220517T080000
DTEND;TZID=Europe/Moscow:20220517T170000
DTSTAMP:20260419T184322
CREATED:20250410T093255Z
LAST-MODIFIED:20250425T072529Z
UID:63190-1652774400-1652806800@kapadokyagastronomifestivali.com
SUMMARY:17 Mayıs\, Salı
DESCRIPTION:
URL:https://kapadokyagastronomifestivali.com/event/17-mayis-sali/
CATEGORIES:2022
END:VEVENT
BEGIN:VEVENT
DTSTART;TZID=Europe/Moscow:20220516T080000
DTEND;TZID=Europe/Moscow:20220516T170000
DTSTAMP:20260419T184322
CREATED:20250410T093207Z
LAST-MODIFIED:20250425T072621Z
UID:63188-1652688000-1652720400@kapadokyagastronomifestivali.com
SUMMARY:16 Mayıs\, Pazartesi
DESCRIPTION:
URL:https://kapadokyagastronomifestivali.com/event/16-mayis-pazartesi/
CATEGORIES:2022
END:VEVENT
END:VCALENDAR